BEGIN:VCALENDAR
VERSION:2.0
PRODID:-//Wolf Martial Arts - ECPv6.15.13.1//NONSGML v1.0//EN
CALSCALE:GREGORIAN
METHOD:PUBLISH
X-ORIGINAL-URL:https://wolfmartialarts.net
X-WR-CALDESC:Events for Wolf Martial Arts
REFRESH-INTERVAL;VALUE=DURATION:PT1H
X-Robots-Tag:noindex
X-PUBLISHED-TTL:PT1H
BEGIN:VTIMEZONE
TZID:UTC
BEGIN:STANDARD
TZOFFSETFROM:+0000
TZOFFSETTO:+0000
TZNAME:UTC
DTSTART:20190101T000000
END:STANDARD
END:VTIMEZONE
BEGIN:VEVENT
DTSTART;TZID=UTC:20200118T150000
DTEND;TZID=UTC:20200118T180000
DTSTAMP:20260423T113436
CREATED:20190118T090049Z
LAST-MODIFIED:20200103T162135Z
UID:366-1579359600-1579370400@wolfmartialarts.net
SUMMARY:KALI WORKSHOP with Randy Siordia
DESCRIPTION:Panantukan (Filipino Boxing)\, single/double stick and knife will be covered in the information packed workshop of Kali!\nPanantukan\nYou will learn the techniques and mechanics of Filipino Boxing! Come train the following:\nStructure + Footwork + Destructions + Entries + Devastating combinations \n\nLearn to disarms sticks and knives easily and follow up with a flurry of damaging strikes! \nDouble sticks\nCombination strikes\nSinawali\nGuntings\nDisarms \nSingle stick\nLocks\nDisarms\nCombination strikes \nKnife\nFlow drills\nCounter cutting\nCombinations\nDisarms
URL:https://wolfmartialarts.net/event/the-5th-international-masters-tournament/
LOCATION:TITAN GYM\, 2256 W Belmont\, Chicago\, IL\, 60618\, United States
CATEGORIES:What's Next,Workshop
ATTACH;FMTTYPE=image/jpeg:https://wolfmartialarts.net/wp-content/uploads/2018/05/WMA-KALI-WORKSHOP-website-event.jpg
ORGANIZER;CN="Titan Gym":MAILTO:info@supremetitan.com
END:VEVENT
END:VCALENDAR